BEGIN:VCALENDAR
VERSION:2.0
PRODID:-//Bildungsforum Untermarchtal - ECPv6.15.20//NONSGML v1.0//EN
CALSCALE:GREGORIAN
METHOD:PUBLISH
X-WR-CALNAME:Bildungsforum Untermarchtal
X-ORIGINAL-URL:https://bildungsforum-kloster-untermarchtal.de
X-WR-CALDESC:Veranstaltungen für Bildungsforum Untermarchtal
REFRESH-INTERVAL;VALUE=DURATION:PT1H
X-Robots-Tag:noindex
X-PUBLISHED-TTL:PT1H
BEGIN:VTIMEZONE
TZID:Europe/Berlin
BEGIN:DAYLIGHT
TZOFFSETFROM:+0100
TZOFFSETTO:+0200
TZNAME:CEST
DTSTART:20220327T010000
END:DAYLIGHT
BEGIN:STANDARD
TZOFFSETFROM:+0200
TZOFFSETTO:+0100
TZNAME:CET
DTSTART:20221030T010000
END:STANDARD
BEGIN:DAYLIGHT
TZOFFSETFROM:+0100
TZOFFSETTO:+0200
TZNAME:CEST
DTSTART:20230326T010000
END:DAYLIGHT
BEGIN:STANDARD
TZOFFSETFROM:+0200
TZOFFSETTO:+0100
TZNAME:CET
DTSTART:20231029T010000
END:STANDARD
BEGIN:DAYLIGHT
TZOFFSETFROM:+0100
TZOFFSETTO:+0200
TZNAME:CEST
DTSTART:20240331T010000
END:DAYLIGHT
BEGIN:STANDARD
TZOFFSETFROM:+0200
TZOFFSETTO:+0100
TZNAME:CET
DTSTART:20241027T010000
END:STANDARD
END:VTIMEZONE
BEGIN:VEVENT
DTSTART;TZID=Europe/Berlin:20230719T200000
DTEND;TZID=Europe/Berlin:20230719T213000
DTSTAMP:20260421T102841
CREATED:20230717T074637Z
LAST-MODIFIED:20230719T123910Z
UID:10000010-1689796800-1689802200@bildungsforum-kloster-untermarchtal.de
SUMMARY:🔵 Meditation des Tanzes
DESCRIPTION:
URL:https://bildungsforum-kloster-untermarchtal.de/veranstaltung/meditation-des-tanzes/
CATEGORIES:Klosterleben & Kloster erleben
ATTACH;FMTTYPE=image/jpeg:https://bildungsforum-kloster-untermarchtal.de/wp-content/uploads/sites/2/2023/07/IMG-20200916-WA0111-e1693142050725.jpg
END:VEVENT
END:VCALENDAR