BEGIN:VCALENDAR
VERSION:2.0
PRODID:-//Bildungsforum Untermarchtal - ECPv6.15.20//NONSGML v1.0//EN
CALSCALE:GREGORIAN
METHOD:PUBLISH
X-WR-CALNAME:Bildungsforum Untermarchtal
X-ORIGINAL-URL:https://bildungsforum-kloster-untermarchtal.de
X-WR-CALDESC:Veranstaltungen für Bildungsforum Untermarchtal
REFRESH-INTERVAL;VALUE=DURATION:PT1H
X-Robots-Tag:noindex
X-PUBLISHED-TTL:PT1H
BEGIN:VTIMEZONE
TZID:Europe/Berlin
BEGIN:DAYLIGHT
TZOFFSETFROM:+0100
TZOFFSETTO:+0200
TZNAME:CEST
DTSTART:20240331T010000
END:DAYLIGHT
BEGIN:STANDARD
TZOFFSETFROM:+0200
TZOFFSETTO:+0100
TZNAME:CET
DTSTART:20241027T010000
END:STANDARD
BEGIN:DAYLIGHT
TZOFFSETFROM:+0100
TZOFFSETTO:+0200
TZNAME:CEST
DTSTART:20250330T010000
END:DAYLIGHT
BEGIN:STANDARD
TZOFFSETFROM:+0200
TZOFFSETTO:+0100
TZNAME:CET
DTSTART:20251026T010000
END:STANDARD
BEGIN:DAYLIGHT
TZOFFSETFROM:+0100
TZOFFSETTO:+0200
TZNAME:CEST
DTSTART:20260329T010000
END:DAYLIGHT
BEGIN:STANDARD
TZOFFSETFROM:+0200
TZOFFSETTO:+0100
TZNAME:CET
DTSTART:20261025T010000
END:STANDARD
END:VTIMEZONE
BEGIN:VEVENT
DTSTART;TZID=Europe/Berlin:20250223T180000
DTEND;TZID=Europe/Berlin:20250302T133000
DTSTAMP:20260425T123922
CREATED:20241023T150602Z
LAST-MODIFIED:20241217T092646Z
UID:10000860-1740333600-1740922200@bildungsforum-kloster-untermarchtal.de
SUMMARY:I-02-23-2025 Ikonenmalkurs
DESCRIPTION:
URL:https://bildungsforum-kloster-untermarchtal.de/veranstaltung/i-02-23-2025-ikonenmalkurs-2/
CATEGORIES:Kreativität, Inspiration & Lebensorientierung
ATTACH;FMTTYPE=image/jpeg:https://bildungsforum-kloster-untermarchtal.de/wp-content/uploads/sites/2/2023/07/ikonen-scaled-e1691686362621.jpg
END:VEVENT
BEGIN:VEVENT
DTSTART;TZID=Europe/Berlin:20250226T180000
DTEND;TZID=Europe/Berlin:20250305T090000
DTSTAMP:20260425T123922
CREATED:20230826T130742Z
LAST-MODIFIED:20240829T160800Z
UID:10000122-1740592800-1741165200@bildungsforum-kloster-untermarchtal.de
SUMMARY:E-02-26-2025  Meditationsexerzitien
DESCRIPTION:
URL:https://bildungsforum-kloster-untermarchtal.de/veranstaltung/e-02-07-2024-meditationsexerzitien/
CATEGORIES:Exerzitien & Stille Tage
ATTACH;FMTTYPE=image/jpeg:https://bildungsforum-kloster-untermarchtal.de/wp-content/uploads/sites/2/2023/08/DSC01022-1-scaled.jpg
END:VEVENT
BEGIN:VEVENT
DTSTART;TZID=Europe/Berlin:20250228T180000
DTEND;TZID=Europe/Berlin:20250302T133000
DTSTAMP:20260425T123922
CREATED:20230826T162510Z
LAST-MODIFIED:20241014T152148Z
UID:10000146-1740765600-1740922200@bildungsforum-kloster-untermarchtal.de
SUMMARY:I-02-28-2025 Atem - Heilkraft des Atems
DESCRIPTION:
URL:https://bildungsforum-kloster-untermarchtal.de/veranstaltung/i-02-28-2025-atem-und-tanz/
CATEGORIES:Geistliche Angebote & Vinzentinische Spiritualität
ATTACH;FMTTYPE=image/jpeg:https://bildungsforum-kloster-untermarchtal.de/wp-content/uploads/sites/2/2023/07/IMG-20200916-WA0049.jpg
END:VEVENT
END:VCALENDAR