BEGIN:VCALENDAR
VERSION:2.0
PRODID:-//Bildungsforum Untermarchtal - ECPv6.15.20//NONSGML v1.0//EN
CALSCALE:GREGORIAN
METHOD:PUBLISH
X-WR-CALNAME:Bildungsforum Untermarchtal
X-ORIGINAL-URL:https://bildungsforum-kloster-untermarchtal.de
X-WR-CALDESC:Veranstaltungen für Bildungsforum Untermarchtal
REFRESH-INTERVAL;VALUE=DURATION:PT1H
X-Robots-Tag:noindex
X-PUBLISHED-TTL:PT1H
BEGIN:VTIMEZONE
TZID:Europe/Berlin
BEGIN:DAYLIGHT
TZOFFSETFROM:+0100
TZOFFSETTO:+0200
TZNAME:CEST
DTSTART:20240331T010000
END:DAYLIGHT
BEGIN:STANDARD
TZOFFSETFROM:+0200
TZOFFSETTO:+0100
TZNAME:CET
DTSTART:20241027T010000
END:STANDARD
BEGIN:DAYLIGHT
TZOFFSETFROM:+0100
TZOFFSETTO:+0200
TZNAME:CEST
DTSTART:20250330T010000
END:DAYLIGHT
BEGIN:STANDARD
TZOFFSETFROM:+0200
TZOFFSETTO:+0100
TZNAME:CET
DTSTART:20251026T010000
END:STANDARD
BEGIN:DAYLIGHT
TZOFFSETFROM:+0100
TZOFFSETTO:+0200
TZNAME:CEST
DTSTART:20260329T010000
END:DAYLIGHT
BEGIN:STANDARD
TZOFFSETFROM:+0200
TZOFFSETTO:+0100
TZNAME:CET
DTSTART:20261025T010000
END:STANDARD
END:VTIMEZONE
BEGIN:VEVENT
DTSTART;TZID=Europe/Berlin:20250705T110000
DTEND;TZID=Europe/Berlin:20250705T160000
DTSTAMP:20260425T234313
CREATED:20250228T100934Z
LAST-MODIFIED:20250228T102420Z
UID:10000912-1751713200-1751731200@bildungsforum-kloster-untermarchtal.de
SUMMARY:für Einzelne\, Paare\, Familien
DESCRIPTION:
URL:https://bildungsforum-kloster-untermarchtal.de/veranstaltung/fuer-einzelne-paare-familien/
CATEGORIES:Familie
ATTACH;FMTTYPE=image/jpeg:https://bildungsforum-kloster-untermarchtal.de/wp-content/uploads/sites/2/2025/02/03-25-10-scaled.jpg
END:VEVENT
END:VCALENDAR