BEGIN:VCALENDAR
VERSION:2.0
PRODID:-//Bildungsforum Untermarchtal - ECPv6.15.20//NONSGML v1.0//EN
CALSCALE:GREGORIAN
METHOD:PUBLISH
X-ORIGINAL-URL:https://bildungsforum-kloster-untermarchtal.de
X-WR-CALDESC:Veranstaltungen für Bildungsforum Untermarchtal
REFRESH-INTERVAL;VALUE=DURATION:PT1H
X-Robots-Tag:noindex
X-PUBLISHED-TTL:PT1H
BEGIN:VTIMEZONE
TZID:Europe/Berlin
BEGIN:DAYLIGHT
TZOFFSETFROM:+0100
TZOFFSETTO:+0200
TZNAME:CEST
DTSTART:20230326T010000
END:DAYLIGHT
BEGIN:STANDARD
TZOFFSETFROM:+0200
TZOFFSETTO:+0100
TZNAME:CET
DTSTART:20231029T010000
END:STANDARD
BEGIN:DAYLIGHT
TZOFFSETFROM:+0100
TZOFFSETTO:+0200
TZNAME:CEST
DTSTART:20240331T010000
END:DAYLIGHT
BEGIN:STANDARD
TZOFFSETFROM:+0200
TZOFFSETTO:+0100
TZNAME:CET
DTSTART:20241027T010000
END:STANDARD
BEGIN:DAYLIGHT
TZOFFSETFROM:+0100
TZOFFSETTO:+0200
TZNAME:CEST
DTSTART:20250330T010000
END:DAYLIGHT
BEGIN:STANDARD
TZOFFSETFROM:+0200
TZOFFSETTO:+0100
TZNAME:CET
DTSTART:20251026T010000
END:STANDARD
END:VTIMEZONE
BEGIN:VEVENT
DTSTART;TZID=Europe/Berlin:20241120T200000
DTEND;TZID=Europe/Berlin:20241120T213000
DTSTAMP:20260423T122841
CREATED:20240919T131318Z
LAST-MODIFIED:20241118T091309Z
UID:10000842-1732132800-1732138200@bildungsforum-kloster-untermarchtal.de
SUMMARY:Meditatives Tanzen
DESCRIPTION:
URL:https://bildungsforum-kloster-untermarchtal.de/veranstaltung/meditatives-tanzen-12/
CATEGORIES:Klosterleben & Kloster erleben
ATTACH;FMTTYPE=image/jpeg:https://bildungsforum-kloster-untermarchtal.de/wp-content/uploads/sites/2/2024/09/meditatives-Tanzen.jpg
END:VEVENT
BEGIN:VEVENT
DTSTART;TZID=Europe/Berlin:20241122T180000
DTEND;TZID=Europe/Berlin:20241124T133000
DTSTAMP:20260423T122841
CREATED:20230826T095354Z
LAST-MODIFIED:20230826T095354Z
UID:10000125-1732298400-1732455000@bildungsforum-kloster-untermarchtal.de
SUMMARY:F-11-22-2024 Besinnungstage für Familien
DESCRIPTION:
URL:https://bildungsforum-kloster-untermarchtal.de/veranstaltung/f-11-22-2024-besinnungstage-fuer-familien/
CATEGORIES:Familie
ATTACH;FMTTYPE=image/jpeg:https://bildungsforum-kloster-untermarchtal.de/wp-content/uploads/sites/2/2023/08/DSC9752-scaled.jpg
END:VEVENT
BEGIN:VEVENT
DTSTART;TZID=Europe/Berlin:20241126T200000
DTEND;TZID=Europe/Berlin:20241126T213000
DTSTAMP:20260423T122841
CREATED:20231229T135641Z
LAST-MODIFIED:20250217T142149Z
UID:10000803-1732651200-1732656600@bildungsforum-kloster-untermarchtal.de
SUMMARY:Bibelgespräch
DESCRIPTION:
URL:https://bildungsforum-kloster-untermarchtal.de/veranstaltung/bibelgespraech-13/
CATEGORIES:Klosterleben & Kloster erleben
ATTACH;FMTTYPE=image/jpeg:https://bildungsforum-kloster-untermarchtal.de/wp-content/uploads/sites/2/2023/12/bibelgespraech-scaled.jpg
END:VEVENT
END:VCALENDAR