BEGIN:VCALENDAR
VERSION:2.0
PRODID:-//Bildungsforum Untermarchtal - ECPv6.15.20//NONSGML v1.0//EN
CALSCALE:GREGORIAN
METHOD:PUBLISH
X-WR-CALNAME:Bildungsforum Untermarchtal
X-ORIGINAL-URL:https://bildungsforum-kloster-untermarchtal.de
X-WR-CALDESC:Veranstaltungen für Bildungsforum Untermarchtal
REFRESH-INTERVAL;VALUE=DURATION:PT1H
X-Robots-Tag:noindex
X-PUBLISHED-TTL:PT1H
BEGIN:VTIMEZONE
TZID:Europe/Berlin
BEGIN:DAYLIGHT
TZOFFSETFROM:+0100
TZOFFSETTO:+0200
TZNAME:CEST
DTSTART:20230326T010000
END:DAYLIGHT
BEGIN:STANDARD
TZOFFSETFROM:+0200
TZOFFSETTO:+0100
TZNAME:CET
DTSTART:20231029T010000
END:STANDARD
BEGIN:DAYLIGHT
TZOFFSETFROM:+0100
TZOFFSETTO:+0200
TZNAME:CEST
DTSTART:20240331T010000
END:DAYLIGHT
BEGIN:STANDARD
TZOFFSETFROM:+0200
TZOFFSETTO:+0100
TZNAME:CET
DTSTART:20241027T010000
END:STANDARD
BEGIN:DAYLIGHT
TZOFFSETFROM:+0100
TZOFFSETTO:+0200
TZNAME:CEST
DTSTART:20250330T010000
END:DAYLIGHT
BEGIN:STANDARD
TZOFFSETFROM:+0200
TZOFFSETTO:+0100
TZNAME:CET
DTSTART:20251026T010000
END:STANDARD
BEGIN:DAYLIGHT
TZOFFSETFROM:+0100
TZOFFSETTO:+0200
TZNAME:CEST
DTSTART:20260329T010000
END:DAYLIGHT
BEGIN:STANDARD
TZOFFSETFROM:+0200
TZOFFSETTO:+0100
TZNAME:CET
DTSTART:20261025T010000
END:STANDARD
END:VTIMEZONE
BEGIN:VEVENT
DTSTART;TZID=Europe/Berlin:20241230T180000
DTEND;TZID=Europe/Berlin:20250104T140000
DTSTAMP:20260423T154631
CREATED:20230827T144954Z
LAST-MODIFIED:20230903T163835Z
UID:10000761-1735581600-1735999200@bildungsforum-kloster-untermarchtal.de
SUMMARY:J-12-30-24 für junge Frauen von 17 bis 35 Jahren
DESCRIPTION:
URL:https://bildungsforum-kloster-untermarchtal.de/veranstaltung/j-07-31-24-fuer-junge-frauen-von-17-bis-35-jahren/
CATEGORIES:Jugend & Junge Erwachsene
ATTACH;FMTTYPE=image/jpeg:https://bildungsforum-kloster-untermarchtal.de/wp-content/uploads/sites/2/2023/08/Untermarchtal_1504_1320.jpg
END:VEVENT
BEGIN:VEVENT
DTSTART;TZID=Europe/Berlin:20250101T183000
DTEND;TZID=Europe/Berlin:20250112T200000
DTSTAMP:20260423T154631
CREATED:20230825T153331Z
LAST-MODIFIED:20241201T052644Z
UID:10000093-1735756200-1736712000@bildungsforum-kloster-untermarchtal.de
SUMMARY:Ankerpunkte - ein Jahr zum Suchen nach Halt und Aufbruch
DESCRIPTION:
URL:https://bildungsforum-kloster-untermarchtal.de/veranstaltung/ankerpunkte-ein-jahr-zum-suchen-nach-halt-und-aufbruch/
CATEGORIES:Jugend & Junge Erwachsene,Klosterleben & Kloster erleben
ATTACH;FMTTYPE=image/jpeg:https://bildungsforum-kloster-untermarchtal.de/wp-content/uploads/sites/2/2023/08/Ankerpunkt1.jpg
END:VEVENT
BEGIN:VEVENT
DTSTART;TZID=Europe/Berlin:20250102T180000
DTEND;TZID=Europe/Berlin:20250106T140000
DTSTAMP:20260423T154631
CREATED:20230810T134605Z
LAST-MODIFIED:20240829T142849Z
UID:10000076-1735840800-1736172000@bildungsforum-kloster-untermarchtal.de
SUMMARY:E-01-02-2025   Einzelexerzitien für Erwachsene
DESCRIPTION:
URL:https://bildungsforum-kloster-untermarchtal.de/veranstaltung/e-01-02-2024-einzelexerzitien-fuer-erwachsene/
CATEGORIES:Exerzitien & Stille Tage
ATTACH;FMTTYPE=image/jpeg:https://bildungsforum-kloster-untermarchtal.de/wp-content/uploads/sites/2/2023/08/DSC_3133-scaled.jpg
END:VEVENT
BEGIN:VEVENT
DTSTART;TZID=Europe/Berlin:20250113T180000
DTEND;TZID=Europe/Berlin:20250117T090000
DTSTAMP:20260423T154631
CREATED:20240829T145128Z
LAST-MODIFIED:20241114T174505Z
UID:10000828-1736791200-1737104400@bildungsforum-kloster-untermarchtal.de
SUMMARY:E-01-13-2025 Einkehrtage für Frauen
DESCRIPTION:
URL:https://bildungsforum-kloster-untermarchtal.de/veranstaltung/e-01-13-2025-einkehrtage-fuer-frauen/
CATEGORIES:Exerzitien & Stille Tage
ATTACH;FMTTYPE=image/jpeg:https://bildungsforum-kloster-untermarchtal.de/wp-content/uploads/sites/2/2024/08/20210811_150304.jpg
END:VEVENT
BEGIN:VEVENT
DTSTART;TZID=Europe/Berlin:20250124T180000
DTEND;TZID=Europe/Berlin:20250126T153000
DTSTAMP:20260423T154631
CREATED:20230826T150154Z
LAST-MODIFIED:20240925T144422Z
UID:10000140-1737741600-1737905400@bildungsforum-kloster-untermarchtal.de
SUMMARY:I-01-24-2025 Schreibwochenende
DESCRIPTION:
URL:https://bildungsforum-kloster-untermarchtal.de/veranstaltung/i-01-24-2025-schreibwochenende/
CATEGORIES:Kreativität, Inspiration & Lebensorientierung
ATTACH;FMTTYPE=image/jpeg:https://bildungsforum-kloster-untermarchtal.de/wp-content/uploads/sites/2/2023/08/notebook-1840276_1280.jpg
END:VEVENT
BEGIN:VEVENT
DTSTART;TZID=Europe/Berlin:20250131T150000
DTEND;TZID=Europe/Berlin:20250204T090000
DTSTAMP:20260423T154631
CREATED:20230810T150459Z
LAST-MODIFIED:20240919T183132Z
UID:10000077-1738335600-1738659600@bildungsforum-kloster-untermarchtal.de
SUMMARY:G-01-31-2025  Männer - Besinnungstage
DESCRIPTION:
URL:https://bildungsforum-kloster-untermarchtal.de/veranstaltung/g-01-31-2025-maenner-besinnungstage/
CATEGORIES:Geistliche Angebote & Vinzentinische Spiritualität
ATTACH;FMTTYPE=image/jpeg:https://bildungsforum-kloster-untermarchtal.de/wp-content/uploads/sites/2/2023/08/P1210317.jpg
END:VEVENT
END:VCALENDAR