BEGIN:VCALENDAR
VERSION:2.0
PRODID:-//Bildungsforum Untermarchtal - ECPv6.15.20//NONSGML v1.0//EN
CALSCALE:GREGORIAN
METHOD:PUBLISH
X-WR-CALNAME:Bildungsforum Untermarchtal
X-ORIGINAL-URL:https://bildungsforum-kloster-untermarchtal.de
X-WR-CALDESC:Veranstaltungen für Bildungsforum Untermarchtal
REFRESH-INTERVAL;VALUE=DURATION:PT1H
X-Robots-Tag:noindex
X-PUBLISHED-TTL:PT1H
BEGIN:VTIMEZONE
TZID:Europe/Berlin
BEGIN:DAYLIGHT
TZOFFSETFROM:+0100
TZOFFSETTO:+0200
TZNAME:CEST
DTSTART:20240331T010000
END:DAYLIGHT
BEGIN:STANDARD
TZOFFSETFROM:+0200
TZOFFSETTO:+0100
TZNAME:CET
DTSTART:20241027T010000
END:STANDARD
BEGIN:DAYLIGHT
TZOFFSETFROM:+0100
TZOFFSETTO:+0200
TZNAME:CEST
DTSTART:20250330T010000
END:DAYLIGHT
BEGIN:STANDARD
TZOFFSETFROM:+0200
TZOFFSETTO:+0100
TZNAME:CET
DTSTART:20251026T010000
END:STANDARD
BEGIN:DAYLIGHT
TZOFFSETFROM:+0100
TZOFFSETTO:+0200
TZNAME:CEST
DTSTART:20260329T010000
END:DAYLIGHT
BEGIN:STANDARD
TZOFFSETFROM:+0200
TZOFFSETTO:+0100
TZNAME:CET
DTSTART:20261025T010000
END:STANDARD
END:VTIMEZONE
BEGIN:VEVENT
DTSTART;TZID=Europe/Berlin:20250605T200000
DTEND;TZID=Europe/Berlin:20250605T213000
DTSTAMP:20260425T204045
CREATED:20250326T091637Z
LAST-MODIFIED:20250326T091637Z
UID:10000914-1749153600-1749159000@bildungsforum-kloster-untermarchtal.de
SUMMARY:Offenes Singen mit Neuen Geistlichen Liedern
DESCRIPTION:
URL:https://bildungsforum-kloster-untermarchtal.de/veranstaltung/offenes-singen-mit-neuen-geistlichen-liedern-6/
CATEGORIES:Klosterleben & Kloster erleben
ATTACH;FMTTYPE=image/jpeg:https://bildungsforum-kloster-untermarchtal.de/wp-content/uploads/sites/2/2025/03/Untermarchtal_1509_0421.jpg
END:VEVENT
BEGIN:VEVENT
DTSTART;TZID=Europe/Berlin:20250610T200000
DTEND;TZID=Europe/Berlin:20250610T213000
DTSTAMP:20260425T204045
CREATED:20250217T141706Z
LAST-MODIFIED:20250217T150052Z
UID:10000903-1749585600-1749591000@bildungsforum-kloster-untermarchtal.de
SUMMARY:Bibelgespräch
DESCRIPTION:
URL:https://bildungsforum-kloster-untermarchtal.de/veranstaltung/bibelgespraech-15/
CATEGORIES:Klosterleben & Kloster erleben
ATTACH;FMTTYPE=image/jpeg:https://bildungsforum-kloster-untermarchtal.de/wp-content/uploads/sites/2/2023/12/bibelgespraech-scaled.jpg
END:VEVENT
BEGIN:VEVENT
DTSTART;TZID=Europe/Berlin:20250618T173000
DTEND;TZID=Europe/Berlin:20250622T133000
DTSTAMP:20260425T204045
CREATED:20230825T183554Z
LAST-MODIFIED:20240924T180430Z
UID:10000098-1750267800-1750599000@bildungsforum-kloster-untermarchtal.de
SUMMARY:G-06-18-2025 Wanderbesinnungstage
DESCRIPTION:
URL:https://bildungsforum-kloster-untermarchtal.de/veranstaltung/g-06-18-2025-wanderbesinnungstagege/
CATEGORIES:Geistliche Angebote & Vinzentinische Spiritualität
ATTACH;FMTTYPE=image/jpeg:https://bildungsforum-kloster-untermarchtal.de/wp-content/uploads/sites/2/2023/08/DSC8339-scaled.jpg
END:VEVENT
BEGIN:VEVENT
DTSTART;TZID=Europe/Berlin:20250620T180000
DTEND;TZID=Europe/Berlin:20250622T133000
DTSTAMP:20260425T204045
CREATED:20240924T181204Z
LAST-MODIFIED:20240924T182856Z
UID:10000848-1750442400-1750599000@bildungsforum-kloster-untermarchtal.de
SUMMARY:G-06-20-2025 Bibliodrama-Wochenende
DESCRIPTION:
URL:https://bildungsforum-kloster-untermarchtal.de/veranstaltung/g-06-20-2025-bibliodrama-wochenende/
CATEGORIES:Kreativität, Inspiration & Lebensorientierung
ATTACH;FMTTYPE=image/jpeg:https://bildungsforum-kloster-untermarchtal.de/wp-content/uploads/sites/2/2024/01/P4290048-scaled.jpg
END:VEVENT
BEGIN:VEVENT
DTSTART;TZID=Europe/Berlin:20250624T200000
DTEND;TZID=Europe/Berlin:20250624T213000
DTSTAMP:20260425T204045
CREATED:20241211T193433Z
LAST-MODIFIED:20241211T193440Z
UID:10000876-1750795200-1750800600@bildungsforum-kloster-untermarchtal.de
SUMMARY:Gespräche über Gott und die Welt
DESCRIPTION:
URL:https://bildungsforum-kloster-untermarchtal.de/veranstaltung/gespraeche-ueber-gott-und-die-welt-21/
CATEGORIES:Klosterleben & Kloster erleben
ATTACH;FMTTYPE=image/jpeg:https://bildungsforum-kloster-untermarchtal.de/wp-content/uploads/sites/2/2023/12/Pilger1-scaled.jpg
END:VEVENT
BEGIN:VEVENT
DTSTART;TZID=Europe/Berlin:20250627T173000
DTEND;TZID=Europe/Berlin:20250629T133000
DTSTAMP:20260425T204045
CREATED:20230825T190439Z
LAST-MODIFIED:20240925T154946Z
UID:10000108-1751045400-1751203800@bildungsforum-kloster-untermarchtal.de
SUMMARY:I-06-27-2025 Tanz\, Meditation und Bewegung
DESCRIPTION:
URL:https://bildungsforum-kloster-untermarchtal.de/veranstaltung/i-06-27-2025-tanz-meditation-und-bewegung/
CATEGORIES:Geistliche Angebote & Vinzentinische Spiritualität
ATTACH;FMTTYPE=image/jpeg:https://bildungsforum-kloster-untermarchtal.de/wp-content/uploads/sites/2/2023/08/IMG-20230627-WA00001.jpg
END:VEVENT
BEGIN:VEVENT
DTSTART;TZID=Europe/Berlin:20250628T140000
DTEND;TZID=Europe/Berlin:20250629T160000
DTSTAMP:20260425T204045
CREATED:20240111T060324Z
LAST-MODIFIED:20250204T164407Z
UID:10000809-1751119200-1751212800@bildungsforum-kloster-untermarchtal.de
SUMMARY:I-06-28-2025 Inspirations-Workshop
DESCRIPTION:
URL:https://bildungsforum-kloster-untermarchtal.de/veranstaltung/i-06-28-2025-inspirations-workshop/
CATEGORIES:Kreativität, Inspiration & Lebensorientierung
ATTACH;FMTTYPE=image/jpeg:https://bildungsforum-kloster-untermarchtal.de/wp-content/uploads/sites/2/2024/01/Elli-050-scaled.jpg
END:VEVENT
END:VCALENDAR